BEGIN:VCALENDAR
VERSION:2.0
PRODID:-//EVTZ//Calendar Feed//EN
CALSCALE:GREGORIAN
METHOD:PUBLISH
X-WR-CALNAME:Elena Mair - EVTZ export
BEGIN:VEVENT
UID:event-636@evtz.net
X-EVTZ-EVENT-ID:636
DTSTAMP:20260423T155017Z
DTSTART:20260425T100000Z
DTEND:20260426T180000Z
SUMMARY:Neustifter Frühling
DESCRIPTION:Grenznaher Frühlingsmarkt im Raum Brixen als regionaler Südti
 rol-Pick.\n\nAuf Basis des Brixner Top-Events-Ausblicks aufgenommen\, um di
 e grenznahe Ausdehnung von Lienz Richtung Südtirol sichtbar zu machen.\n\n
 Responsible: Brixen Tourismus\n\nSource: Brixen Tourismus\n\nSource URL: ht
 tps://www.brixen.org/de
LOCATION:Neustift bei Brixen\, Brixen
URL:https://evtz.net/events/636
STATUS:CONFIRMED
END:VEVENT
END:VCALENDAR
