BEGIN:VCALENDAR
VERSION:2.0
PRODID:-//EVTZ//Calendar Feed//EN
CALSCALE:GREGORIAN
METHOD:PUBLISH
X-WR-CALNAME:Johanna Obwegeser - EVTZ export
BEGIN:VEVENT
UID:event-633@evtz.net
X-EVTZ-EVENT-ID:633
DTSTAMP:20260423T141252Z
DTSTART:20260506T090000Z
DTEND:20260506T110000Z
SUMMARY:Elternberatung Sillian
DESCRIPTION:Niederschwelliges Dorfangebot aus dem Sillianer Veranstaltungsk
 alender.\n\nRegionales Beratungstreffen mit kleinem lokalen Einzugsgebiet\,
  bewusst als Gegenpol zu Großveranstaltungen aufgenommen.\n\nResponsible: 
 Marktgemeinde Sillian\n\nSource: Marktgemeinde Sillian\n\nSource URL: https
 ://www.marktgemeinde-sillian.at/herzlich-willkommen/veranstaltungen/
LOCATION:Gemeindezentrum Sillian\, Sillian
URL:https://evtz.net/events/633
STATUS:CONFIRMED
END:VEVENT
END:VCALENDAR
