BEGIN:VCALENDAR
VERSION:2.0
PRODID:-//EVTZ//Calendar Feed//EN
CALSCALE:GREGORIAN
METHOD:PUBLISH
X-WR-CALNAME:Simon Lugger - EVTZ export
BEGIN:VEVENT
UID:event-631@evtz.net
X-EVTZ-EVENT-ID:631
DTSTAMP:20260423T173834Z
DTSTART:20260505T193000Z
DTEND:20260505T213000Z
SUMMARY:Kino im Kultursaal: Schmetterlinge im Ohr
DESCRIPTION:Kleines Abendkino in Debant aus dem kommunalen Terminkalender.\
 n\nKuratiertes Filmformat aus Nußdorf-Debant mit lokalem Veranstaltungscha
 rakter statt großem Institutionenbezug.\n\nResponsible: Gemeinde Nußdorf-
 Debant\n\nSource: Gemeinde Nußdorf-Debant\n\nSource URL: https://www.nussd
 orf-debant.at/terminkalender
LOCATION:Kultursaal Debant\, Nußdorf-Debant
URL:https://evtz.net/events/631
STATUS:CONFIRMED
END:VEVENT
END:VCALENDAR
