BEGIN:VCALENDAR
VERSION:2.0
PRODID:-//EVTZ//Calendar Feed//EN
CALSCALE:GREGORIAN
METHOD:PUBLISH
X-WR-CALNAME:Florian Lang - EVTZ export
BEGIN:VEVENT
UID:event-619@evtz.net
X-EVTZ-EVENT-ID:619
DTSTAMP:20260423T135656Z
DTSTART:20260501T100000Z
DTEND:20260501T200000Z
SUMMARY:Für Kinder. Kunstgeschichten seit 1968
DESCRIPTION:Offizieller München-Termin: Für Kinder. Kunstgeschichten seit
  1968 in Haus der Kunst.\n\nFür Kinder. Kunstgeschichten seit 1968 ist auf
  muenchen.de als offizieller Veranstaltungstermin in Haus der Kunst geliste
 t.\n\nResponsible: Florian Lang\n\nSource: muenchen.de\n\nSource URL: https
 ://www.muenchen.de/veranstaltungen/freizeit/ausstellung-museen/fuer-kinder-
 kunstgeschichten-seit-1968
LOCATION:Haus der Kunst\, München\, Haus der Kunst
URL:https://evtz.net/events/619
STATUS:CONFIRMED
END:VEVENT
END:VCALENDAR
