BEGIN:VCALENDAR
VERSION:2.0
PRODID:-//EVTZ//Calendar Feed//EN
CALSCALE:GREGORIAN
METHOD:PUBLISH
X-WR-CALNAME:Giulia Rossi - EVTZ export
BEGIN:VEVENT
UID:event-558@evtz.net
X-EVTZ-EVENT-ID:558
DTSTAMP:20260423T174024Z
DTSTART:20260419T090000Z
DTEND:20261227T180000Z
SUMMARY:LANA | MUSIK | FESTIVAL 2026
DESCRIPTION:Offizieller Südtirol-Termin: LANA | MUSIK | FESTIVAL 2026 in L
 ana.\n\nDer Verein LanAntiqua wurde 2021 ins Leben gerufen und trägt zur B
 ereicherung des Musiklebens in Lana bei. Des Weiteren möchte man versuchen
  der Musik des 17. und 18. Jahrhunderts\, die eine unerschöpfliche Inspira
 tionsquelle darstellt\, ihren verdienten Platz im Lananer Kulturleben und d
 arüber hinaus zu geben. Dank imposanter Spielorte wie der spätgotischen P
 farrkirche Maria Himmelfahrt in Niederlana mit ihrem beeindruckenden Flüge
 laltar von Hans Schnatterpeck und ihrer besonderen Akustik ist hochkarätig
 er Konzertgenuss vorprogrammiert. Ziel des Vereins ist die Durchführung un
 d Organisation von Konzerten im Rahmen eigens geschaffener Konzertreihen wi
 e „LanAntiqua - Alte Musik“ oder den „Lananer Orgelkonzerten“. Bei 
 diesen Konzerten finden international anerkannte Künstler ebenso wie einhe
 imische Musiker und Nachwuchstalente Platz. LanAntiqua ist ein Forum für s
 chöne Musik\, eine Plattform für einheimische Künstler und junge Talente
 . LanAntiqua will dem Wohlklang Raum geben und ist eine Tribüne für Musik
  und Kultur. Für alle.\n\nResponsible: Giulia Rossi\n\nSource: suedtirol.i
 nfo\n\nSource URL: https://www.suedtirol.info/de/de/erlebnisse-und-events/e
 vents-suedtirol/pdp-event.D51C7DD3E63D4E6B89F3F2FC93AD766B.lana---musik---f
 estival-.lana
LOCATION:Lana\, Lana\, Lana
URL:https://evtz.net/events/558
STATUS:CONFIRMED
END:VEVENT
END:VCALENDAR
