BEGIN:VCALENDAR
VERSION:2.0
PRODID:-//EVTZ//Calendar Feed//EN
CALSCALE:GREGORIAN
METHOD:PUBLISH
X-WR-CALNAME:Elena Rossi - EVTZ export
BEGIN:VEVENT
UID:event-549@evtz.net
X-EVTZ-EVENT-ID:549
DTSTAMP:20260423T135733Z
DTSTART:20260408T090000Z
DTEND:20260502T180000Z
SUMMARY:Gemeinschaftsausstellung "Mensch sein" im Stadtmuseum Klausen
DESCRIPTION:Offizieller Südtirol-Termin: Gemeinschaftsausstellung "Mensch 
 sein" im Stadtmuseum Klausen in Klausen.\n\nDie Gemeinschaftsausstellung 
 „Mensch sein“ vereint Werke der drei zeitgenössischen Künstlerinnen O
 ttavia Demetz\, Annamaria Grisi und Anna Maria Mayr. Im Zentrum der Ausstel
 lung steht die Auseinandersetzung mit dem Menschsein\, das von den Künstle
 rinnen auf sehr unterschiedliche Weise interpretiert wird und dadurch in ei
 nen spannenden künstlerischen Dialog tritt. Die Ausstellung ist vom 28. M
 ärz bis 2. Mai 2026 im Stadtmuseum Klausen zu sehen. Die gezeigten Arbeite
 n reichen von figurativen Zeichnungen über poetische Assemblagen bis hin z
 u abstrakten Werken auf Glas. Ottavia Demetz nähert sich dem Thema über i
 ntensive\, prozesshafte Zeichnung\, Annamaria Grisi verbindet Malerei und t
 extile Materialien zu ausdrucksstarken Bildwelten\, und Anna Maria Mayr er
 öffnet mit ihren farbintensiven Hinterglasarbeiten einen freien emotionale
 n Resonanzraum für die Betrachtenden.\n\nResponsible: Elena Rossi\n\nSourc
 e: suedtirol.info\n\nSource URL: https://www.suedtirol.info/de/de/erlebniss
 e-und-events/events-suedtirol/pdp-event.72638E0C0708489BBB9A6C2B1C4EDE8E.ge
 meinschaftsausstellung-mensch-sein-im-stadtmuseum-klausen.klausen
LOCATION:Klausen\, Klausen\, Klausen
URL:https://evtz.net/events/549
STATUS:CONFIRMED
END:VEVENT
END:VCALENDAR
