BEGIN:VCALENDAR
VERSION:2.0
PRODID:-//EVTZ//Calendar Feed//EN
CALSCALE:GREGORIAN
METHOD:PUBLISH
X-WR-CALNAME:Sara Kofler - EVTZ export
BEGIN:VEVENT
UID:event-542@evtz.net
X-EVTZ-EVENT-ID:542
DTSTAMP:20260423T141741Z
DTSTART:20260408T090000Z
DTEND:20270324T180000Z
SUMMARY:Wochenmarkt in Bruneck
DESCRIPTION:Offizieller Südtirol-Termin: Wochenmarkt in Bruneck in Bruneck
 .\n\nJeden Mittwoch findet am Rathausplatz in Bruneck der Wochenmarkt statt
 .\n\nResponsible: Sara Kofler\n\nSource: suedtirol.info\n\nSource URL: http
 s://www.suedtirol.info/de/de/erlebnisse-und-events/events-suedtirol/pdp-eve
 nt.65E2CC3EE8BB438BA0A22B44E462E791.wochenmarkt-in-bruneck.bruneck
LOCATION:Bruneck\, Bruneck\, Bruneck
URL:https://evtz.net/events/542
STATUS:CONFIRMED
END:VEVENT
END:VCALENDAR
