BEGIN:VCALENDAR
VERSION:2.0
PRODID:-//EVTZ//Calendar Feed//EN
CALSCALE:GREGORIAN
METHOD:PUBLISH
X-WR-CALNAME:Matteo Mayr - EVTZ export
BEGIN:VEVENT
UID:event-531@evtz.net
X-EVTZ-EVENT-ID:531
DTSTAMP:20260423T142354Z
DTSTART:20260408T090000Z
DTEND:20261125T180000Z
SUMMARY:Wochenmarkt in Auer
DESCRIPTION:Offizieller Südtirol-Termin: Wochenmarkt in Auer in Auer.\n\nW
 ochenmarkt in Auer. Jeden Mittwoch Vormittags auf dem Heinrich Lona Platz.\
 n\nResponsible: Matteo Mayr\n\nSource: suedtirol.info\n\nSource URL: https:
 //www.suedtirol.info/de/de/erlebnisse-und-events/events-suedtirol/pdp-event
 .FD482455B0E5463284CF6790137F0560.wochenmarkt-in-auer.auer
LOCATION:Auer\, Auer\, Auer
URL:https://evtz.net/events/531
STATUS:CONFIRMED
END:VEVENT
END:VCALENDAR
