BEGIN:VCALENDAR
VERSION:2.0
PRODID:-//EVTZ//Calendar Feed//EN
CALSCALE:GREGORIAN
METHOD:PUBLISH
X-WR-CALNAME:Luca Messner - EVTZ export
BEGIN:VEVENT
UID:event-528@evtz.net
X-EVTZ-EVENT-ID:528
DTSTAMP:20260423T141028Z
DTSTART:20260408T090000Z
DTEND:20260610T180000Z
SUMMARY:Yoga mit Klangentspannung (TESANA)
DESCRIPTION:Offizieller Südtirol-Termin: Yoga mit Klangentspannung (TESANA
 ) in Tisens.\n\nYoga ist eine ganzheitliche Praxis\, die Körper\, Geist un
 d Seele in Einklang bringt. Egal ob alt oder jung\, fit oder weniger sportl
 ich - Yoga kann jeder machen und jeder ist herzlich Willkommen. Angeleitet 
 von Kathrins ruhiger Stimme entfaltet sich der sanfte Fluss des Slow-Flow-Y
 oga\, während der Atem als natürlicher Anker dient. Achtsamkeit steht im 
 Mittelpunkt\, um den eigenen Körper bewusst wahrzunehmen und ihm genau das
  zu geben\, was er braucht. Getragen von den sanften Klängen der Klangscha
 len klingt die Stunde in entspannter Stille aus. Umkleidemöglichkeit vorha
 nden. Mindestalter 10 Jahre. Die Veranstaltung findet bei jeder Witterung s
 tatt. Leitung: Kathrin Raich\, Yogalehrerin Kathrin ist eine naturliebende 
 Yogini\, die mit ihrer sanften Stimme durch eine wunderbar stimmige Yogastu
 nde begleitet. Manchmal kraftvoll\, manchmal sanft\, aber immer mit voller 
 Leidenschaft wird ihre Yogastunde zu einem Wohlfühlerlebnis für Körper\,
  Geist und Seele.\n\nResponsible: Luca Messner\n\nSource: suedtirol.info\n\
 nSource URL: https://www.suedtirol.info/de/de/erlebnisse-und-events/events-
 suedtirol/pdp-event.BE1F67888FBF4C5591DF0BA896E35D56.yoga-mit-klangentspann
 ung-tesana.tisens
LOCATION:Tisens\, Tisens\, Tisens
URL:https://evtz.net/events/528
STATUS:CONFIRMED
END:VEVENT
END:VCALENDAR
